Package: crisprDesign Version: 1.6.0 Command: /Library/Frameworks/R.framework/Resources/bin/R CMD build --keep-empty-dirs --no-resave-data crisprDesign StartedAt: 2024-06-09 16:20:08 -0400 (Sun, 09 Jun 2024) EndedAt: 2024-06-09 16:21:55 -0400 (Sun, 09 Jun 2024) EllapsedTime: 107.1 seconds RetCode: 0 Status: OK PackageFile: crisprDesign_1.6.0.tar.gz PackageFileSize: 2.562 MiB