Package: crisprDesign Version: 1.6.0 Command: /Library/Frameworks/R.framework/Resources/bin/R CMD INSTALL crisprDesign StartedAt: 2024-06-09 16:10:44 -0400 (Sun, 09 Jun 2024) EndedAt: 2024-06-09 16:12:04 -0400 (Sun, 09 Jun 2024) EllapsedTime: 79.7 seconds RetCode: 0 Status: OK