Package: crisprDesign Version: 1.6.0 Command: /Library/Frameworks/R.framework/Resources/bin/R CMD INSTALL crisprDesign StartedAt: 2024-10-16 17:03:13 -0400 (Wed, 16 Oct 2024) EndedAt: 2024-10-16 17:04:15 -0400 (Wed, 16 Oct 2024) EllapsedTime: 61.6 seconds RetCode: 0 Status: OK