Package: crisprBwa Version: 1.8.0 Command: /home/biocbuild/bbs-3.19-bioc/R/bin/R CMD check --install=check:crisprBwa.install-out.txt --library=/home/biocbuild/bbs-3.19-bioc/R/site-library --timings crisprBwa_1.8.0.tar.gz StartedAt: 2024-10-16 23:12:19 -0400 (Wed, 16 Oct 2024) EndedAt: 2024-10-16 23:16:53 -0400 (Wed, 16 Oct 2024) EllapsedTime: 274.6 seconds RetCode: 0 Status: OK CheckDir: crisprBwa.Rcheck Warnings: 0