Package: crisprBwa Version: 1.8.0 Command: /Library/Frameworks/R.framework/Resources/bin/R CMD check --install=check:crisprBwa.install-out.txt --library=/Library/Frameworks/R.framework/Resources/library --no-vignettes --timings crisprBwa_1.8.0.tar.gz StartedAt: 2024-10-17 03:27:47 -0400 (Thu, 17 Oct 2024) EndedAt: 2024-10-17 03:37:53 -0400 (Thu, 17 Oct 2024) EllapsedTime: 605.9 seconds RetCode: 0 Status: OK CheckDir: crisprBwa.Rcheck Warnings: 0