Package: crisprBwa Version: 1.8.0 Command: /Library/Frameworks/R.framework/Resources/bin/R CMD INSTALL crisprBwa StartedAt: 2024-06-09 15:22:55 -0400 (Sun, 09 Jun 2024) EndedAt: 2024-06-09 15:23:38 -0400 (Sun, 09 Jun 2024) EllapsedTime: 43.0 seconds RetCode: 0 Status: OK