Package: crisprBwa Version: 1.8.0 Command: /Library/Frameworks/R.framework/Resources/bin/R CMD check --install=check:crisprBwa.install-out.txt --library=/Library/Frameworks/R.framework/Resources/library --no-vignettes --timings crisprBwa_1.8.0.tar.gz StartedAt: 2024-06-10 12:00:25 -0400 (Mon, 10 Jun 2024) EndedAt: 2024-06-10 12:08:13 -0400 (Mon, 10 Jun 2024) EllapsedTime: 468.4 seconds RetCode: 0 Status: OK CheckDir: crisprBwa.Rcheck Warnings: 0