Package: crisprBwa Version: 1.8.0 Command: /Library/Frameworks/R.framework/Resources/bin/R CMD build --keep-empty-dirs --no-resave-data crisprBwa StartedAt: 2024-10-16 22:22:06 -0400 (Wed, 16 Oct 2024) EndedAt: 2024-10-16 22:23:04 -0400 (Wed, 16 Oct 2024) EllapsedTime: 58.4 seconds RetCode: 0 Status: OK PackageFile: crisprBwa_1.8.0.tar.gz PackageFileSize: 359.7 KiB