Package: crisprBowtie Version: 1.8.0 Command: rm -rf crisprBowtie.buildbin-libdir && mkdir crisprBowtie.buildbin-libdir && F:\biocbuild\bbs-3.19-bioc\R\bin\R.exe CMD INSTALL --build --library=crisprBowtie.buildbin-libdir crisprBowtie_1.8.0.tar.gz StartedAt: 2024-06-27 08:03:16 -0400 (Thu, 27 Jun 2024) EndedAt: 2024-06-27 08:04:01 -0400 (Thu, 27 Jun 2024) EllapsedTime: 45.4 seconds RetCode: 0 Status: OK PackageFile: crisprBowtie_1.8.0.zip PackageFileSize: 342.1 KiB