Package: cqn Version: 1.50.0 Command: chmod a+r cqn -R && F:\biocbuild\bbs-3.19-bioc\R\bin\R.exe CMD build --keep-empty-dirs --no-resave-data cqn StartedAt: 2024-06-26 18:02:53 -0400 (Wed, 26 Jun 2024) EndedAt: 2024-06-26 18:03:20 -0400 (Wed, 26 Jun 2024) EllapsedTime: 27.1 seconds RetCode: 0 Status: OK PackageFile: cqn_1.50.0.tar.gz PackageFileSize: 718.4 KiB