Package: cqn Version: 1.50.0 Command: rm -rf cqn.buildbin-libdir && mkdir cqn.buildbin-libdir && F:\biocbuild\bbs-3.19-bioc\R\bin\R.exe CMD INSTALL --build --library=cqn.buildbin-libdir cqn_1.50.0.tar.gz StartedAt: 2024-06-27 08:03:08 -0400 (Thu, 27 Jun 2024) EndedAt: 2024-06-27 08:03:22 -0400 (Thu, 27 Jun 2024) EllapsedTime: 14.0 seconds RetCode: 0 Status: OK PackageFile: cqn_1.50.0.zip PackageFileSize: 740 KiB