Package: cqn Version: 1.50.0 Command: /home/biocbuild/R/R-beta-2024-04-15_r86425/bin/R CMD INSTALL cqn StartedAt: 2024-05-08 20:48:03 -0000 (Wed, 08 May 2024) EndedAt: 2024-05-08 20:48:11 -0000 (Wed, 08 May 2024) EllapsedTime: 7.7 seconds RetCode: 0 Status: OK