Package: cqn Version: 1.50.0 Command: /home/biocbuild/R/R-beta-2024-04-15_r86425/bin/R CMD build --keep-empty-dirs --no-resave-data cqn StartedAt: 2024-05-08 23:35:00 -0000 (Wed, 08 May 2024) EndedAt: 2024-05-08 23:35:21 -0000 (Wed, 08 May 2024) EllapsedTime: 21.0 seconds RetCode: 0 Status: OK PackageFile: cqn_1.50.0.tar.gz PackageFileSize: 793.7 KiB