Package: cqn Version: 1.50.0 Command: /Library/Frameworks/R.framework/Resources/bin/R CMD build --keep-empty-dirs --no-resave-data cqn StartedAt: 2024-06-09 20:00:33 -0400 (Sun, 09 Jun 2024) EndedAt: 2024-06-09 20:00:59 -0400 (Sun, 09 Jun 2024) EllapsedTime: 26.6 seconds RetCode: 0 Status: OK PackageFile: cqn_1.50.0.tar.gz PackageFileSize: 1.04 MiB