Package: cqn Version: 1.50.0 Command: rm -rf cqn.buildbin-libdir && mkdir cqn.buildbin-libdir && /Users/biocbuild/BBS/utils/build-universal.sh cqn_1.50.0.tar.gz /Library/Frameworks/R.framework/Resources/bin/R cqn.buildbin-libdir StartedAt: 2024-10-18 17:57:59 -0400 (Fri, 18 Oct 2024) EndedAt: 2024-10-18 17:58:09 -0400 (Fri, 18 Oct 2024) EllapsedTime: 10.3 seconds RetCode: 0 Status: OK PackageFile: cqn_1.50.0.tgz PackageFileSize: 1.058 MiB