Package: cqn Version: 1.50.0 Maintainer: Kasper Daniel Hansen MaintainerEmail: kasperdanielhansen at gmail.com git_url: https://git.bioconductor.org/packages/cqn git_branch: RELEASE_3_19 git_last_commit: dfa58ba git_last_commit_date: 2024-04-30 10:24:46 -0400 (Tue, 30 Apr 2024)