Package: cpvSNP Version: 1.36.0 Command: rm -rf cpvSNP.buildbin-libdir && mkdir cpvSNP.buildbin-libdir && F:\biocbuild\bbs-3.19-bioc\R\bin\R.exe CMD INSTALL --build --library=cpvSNP.buildbin-libdir cpvSNP_1.36.0.tar.gz StartedAt: 2024-06-27 08:03:06 -0400 (Thu, 27 Jun 2024) EndedAt: 2024-06-27 08:03:59 -0400 (Thu, 27 Jun 2024) EllapsedTime: 52.8 seconds RetCode: 0 Status: OK PackageFile: cpvSNP_1.36.0.zip PackageFileSize: 2.349 MiB