Package: cpvSNP Version: 1.36.0 Command: /home/biocbuild/bbs-3.19-bioc/R/bin/R CMD build --keep-empty-dirs --no-resave-data cpvSNP StartedAt: 2024-10-16 17:58:52 -0400 (Wed, 16 Oct 2024) EndedAt: 2024-10-16 17:59:51 -0400 (Wed, 16 Oct 2024) EllapsedTime: 59.1 seconds RetCode: 0 Status: OK PackageFile: cpvSNP_1.36.0.tar.gz PackageFileSize: 2.002 MiB