Package: cpvSNP Version: 1.36.0 Command: rm -rf cpvSNP.buildbin-libdir && mkdir cpvSNP.buildbin-libdir && /Users/biocbuild/BBS/utils/build-universal.sh cpvSNP_1.36.0.tar.gz /Library/Frameworks/R.framework/Resources/bin/R cpvSNP.buildbin-libdir StartedAt: 2024-06-10 00:13:10 -0400 (Mon, 10 Jun 2024) EndedAt: 2024-06-10 00:14:05 -0400 (Mon, 10 Jun 2024) EllapsedTime: 54.8 seconds RetCode: 0 Status: OK PackageFile: cpvSNP_1.36.0.tgz PackageFileSize: 2.375 MiB