Package: cpvSNP Version: 1.36.0 Command: /home/biocbuild/R/R-beta-2024-04-15_r86425/bin/R CMD check --install=check:cpvSNP.install-out.txt --library=/home/biocbuild/R/R-beta-2024-04-15_r86425/site-library --no-vignettes --timings cpvSNP_1.36.0.tar.gz StartedAt: 2024-05-09 06:15:41 -0000 (Thu, 09 May 2024) EndedAt: 2024-05-09 06:21:48 -0000 (Thu, 09 May 2024) EllapsedTime: 366.6 seconds RetCode: 0 Status: OK CheckDir: cpvSNP.Rcheck Warnings: 0