Package: cpvSNP Version: 1.36.0 Command: /Library/Frameworks/R.framework/Resources/bin/R CMD build --keep-empty-dirs --no-resave-data cpvSNP StartedAt: 2024-06-09 20:00:19 -0400 (Sun, 09 Jun 2024) EndedAt: 2024-06-09 20:01:46 -0400 (Sun, 09 Jun 2024) EllapsedTime: 87.9 seconds RetCode: 0 Status: OK PackageFile: cpvSNP_1.36.0.tar.gz PackageFileSize: 2.006 MiB