Package: cpvSNP Version: 1.36.0 Command: rm -rf cpvSNP.buildbin-libdir && mkdir cpvSNP.buildbin-libdir && /Users/biocbuild/BBS/utils/build-universal.sh cpvSNP_1.36.0.tar.gz /Library/Frameworks/R.framework/Resources/bin/R cpvSNP.buildbin-libdir StartedAt: 2024-06-11 10:44:13 -0400 (Tue, 11 Jun 2024) EndedAt: 2024-06-11 10:45:34 -0400 (Tue, 11 Jun 2024) EllapsedTime: 80.8 seconds RetCode: 0 Status: OK PackageFile: cpvSNP_1.36.0.tgz PackageFileSize: 2.376 MiB