Package: cpvSNP Version: 1.36.0 Command: /Library/Frameworks/R.framework/Resources/bin/R CMD build --keep-empty-dirs --no-resave-data cpvSNP StartedAt: 2024-10-16 22:19:38 -0400 (Wed, 16 Oct 2024) EndedAt: 2024-10-16 22:20:57 -0400 (Wed, 16 Oct 2024) EllapsedTime: 78.9 seconds RetCode: 0 Status: OK PackageFile: cpvSNP_1.36.0.tar.gz PackageFileSize: 2.006 MiB