Package: covRNA Version: 1.30.0 Command: /Library/Frameworks/R.framework/Resources/bin/R CMD build --keep-empty-dirs --no-resave-data covRNA StartedAt: 2024-10-16 18:17:01 -0400 (Wed, 16 Oct 2024) EndedAt: 2024-10-16 18:19:27 -0400 (Wed, 16 Oct 2024) EllapsedTime: 146.7 seconds RetCode: 0 Status: OK PackageFile: covRNA_1.30.0.tar.gz PackageFileSize: 556 KiB