Package: covRNA Version: 1.30.0 Command: rm -rf covRNA.buildbin-libdir && mkdir covRNA.buildbin-libdir && /Users/biocbuild/BBS/utils/build-universal.sh covRNA_1.30.0.tar.gz /Library/Frameworks/R.framework/Resources/bin/R covRNA.buildbin-libdir StartedAt: 2024-10-17 15:55:31 -0400 (Thu, 17 Oct 2024) EndedAt: 2024-10-17 15:56:15 -0400 (Thu, 17 Oct 2024) EllapsedTime: 43.5 seconds RetCode: 0 Status: OK PackageFile: covRNA_1.30.0.tgz PackageFileSize: 595.3 KiB