Package: covRNA Version: 1.30.0 Command: /home/biocbuild/R/R-beta-2024-04-15_r86425/bin/R CMD build --keep-empty-dirs --no-resave-data covRNA StartedAt: 2024-05-08 23:34:59 -0000 (Wed, 08 May 2024) EndedAt: 2024-05-08 23:36:02 -0000 (Wed, 08 May 2024) EllapsedTime: 63.1 seconds RetCode: 0 Status: OK PackageFile: covRNA_1.30.0.tar.gz PackageFileSize: 544.6 KiB