Package: covRNA Version: 1.30.0 Command: /Library/Frameworks/R.framework/Resources/bin/R CMD build --keep-empty-dirs --no-resave-data covRNA StartedAt: 2024-10-16 22:18:57 -0400 (Wed, 16 Oct 2024) EndedAt: 2024-10-16 22:20:08 -0400 (Wed, 16 Oct 2024) EllapsedTime: 70.7 seconds RetCode: 0 Status: OK PackageFile: covRNA_1.30.0.tar.gz PackageFileSize: 556.2 KiB