Package: covRNA Version: 1.30.0 Maintainer: Lara Urban MaintainerEmail: lara.h.urban at ebi.ac.uk git_url: https://git.bioconductor.org/packages/covRNA git_branch: RELEASE_3_19 git_last_commit: d0ddade git_last_commit_date: 2024-04-30 10:51:12 -0400 (Tue, 30 Apr 2024)