Package: covEB Version: 1.30.0 Command: F:\biocbuild\bbs-3.19-bioc\R\bin\R.exe CMD check --no-multiarch --install=check:covEB.install-out.txt --library=F:\biocbuild\bbs-3.19-bioc\R\library --no-vignettes --timings covEB_1.30.0.tar.gz StartedAt: 2024-06-27 00:29:07 -0400 (Thu, 27 Jun 2024) EndedAt: 2024-06-27 00:30:08 -0400 (Thu, 27 Jun 2024) EllapsedTime: 62.0 seconds RetCode: 0 Status: OK CheckDir: covEB.Rcheck Warnings: 0