Package: covEB Version: 1.30.0 Command: /Library/Frameworks/R.framework/Resources/bin/R CMD build --keep-empty-dirs --no-resave-data covEB StartedAt: 2024-10-16 18:16:25 -0400 (Wed, 16 Oct 2024) EndedAt: 2024-10-16 18:17:18 -0400 (Wed, 16 Oct 2024) EllapsedTime: 52.8 seconds RetCode: 0 Status: OK PackageFile: covEB_1.30.0.tar.gz PackageFileSize: 114.8 KiB