Package: covEB Version: 1.30.0 Command: /Library/Frameworks/R.framework/Resources/bin/R CMD INSTALL covEB StartedAt: 2024-06-09 15:06:16 -0400 (Sun, 09 Jun 2024) EndedAt: 2024-06-09 15:06:37 -0400 (Sun, 09 Jun 2024) EllapsedTime: 21.2 seconds RetCode: 0 Status: OK