Package: covEB Version: 1.30.0 Command: rm -rf covEB.buildbin-libdir && mkdir covEB.buildbin-libdir && /Users/biocbuild/BBS/utils/build-universal.sh covEB_1.30.0.tar.gz /Library/Frameworks/R.framework/Resources/bin/R covEB.buildbin-libdir StartedAt: 2024-06-10 00:13:08 -0400 (Mon, 10 Jun 2024) EndedAt: 2024-06-10 00:13:19 -0400 (Mon, 10 Jun 2024) EllapsedTime: 11.3 seconds RetCode: 0 Status: OK PackageFile: covEB_1.30.0.tgz PackageFileSize: 149.3 KiB