Package: covEB Version: 1.30.0 Command: /home/biocbuild/R/R-beta-2024-04-15_r86425/bin/R CMD check --install=check:covEB.install-out.txt --library=/home/biocbuild/R/R-beta-2024-04-15_r86425/site-library --no-vignettes --timings covEB_1.30.0.tar.gz StartedAt: 2024-05-09 06:14:50 -0000 (Thu, 09 May 2024) EndedAt: 2024-05-09 06:15:48 -0000 (Thu, 09 May 2024) EllapsedTime: 58.1 seconds RetCode: 0 Status: OK CheckDir: covEB.Rcheck Warnings: 0