Package: covEB Version: 1.30.0 Command: /home/biocbuild/R/R-beta-2024-04-15_r86425/bin/R CMD build --keep-empty-dirs --no-resave-data covEB StartedAt: 2024-05-08 23:34:52 -0000 (Wed, 08 May 2024) EndedAt: 2024-05-08 23:35:13 -0000 (Wed, 08 May 2024) EllapsedTime: 21.0 seconds RetCode: 0 Status: OK PackageFile: covEB_1.30.0.tar.gz PackageFileSize: 111.8 KiB