Package: covEB Version: 1.30.0 Command: rm -rf covEB.buildbin-libdir && mkdir covEB.buildbin-libdir && /Users/biocbuild/BBS/utils/build-universal.sh covEB_1.30.0.tar.gz /Library/Frameworks/R.framework/Resources/bin/R covEB.buildbin-libdir StartedAt: 2024-10-18 17:57:31 -0400 (Fri, 18 Oct 2024) EndedAt: 2024-10-18 17:57:42 -0400 (Fri, 18 Oct 2024) EllapsedTime: 11.5 seconds RetCode: 0 Status: OK PackageFile: covEB_1.30.0.tgz PackageFileSize: 149.4 KiB