Package: covEB Version: 1.30.0 Maintainer: C. Pacini MaintainerEmail: clarepacini at gmail.com git_url: https://git.bioconductor.org/packages/covEB git_branch: RELEASE_3_19 git_last_commit: 548b299 git_last_commit_date: 2024-04-30 10:51:35 -0400 (Tue, 30 Apr 2024)