Package: countsimQC Version: 1.22.0 Command: E:\biocbuild\bbs-3.19-bioc\R\bin\R.exe CMD INSTALL countsimQC StartedAt: 2024-10-16 16:56:35 -0400 (Wed, 16 Oct 2024) EndedAt: 2024-10-16 16:57:20 -0400 (Wed, 16 Oct 2024) EllapsedTime: 45.8 seconds RetCode: 0 Status: OK