Package: countsimQC Version: 1.22.0 Command: chmod a+r countsimQC -R && E:\biocbuild\bbs-3.19-bioc\R\bin\R.exe CMD build --keep-empty-dirs --no-resave-data countsimQC StartedAt: 2024-10-16 18:24:54 -0400 (Wed, 16 Oct 2024) EndedAt: 2024-10-16 18:27:04 -0400 (Wed, 16 Oct 2024) EllapsedTime: 130.6 seconds RetCode: 0 Status: OK PackageFile: countsimQC_1.22.0.tar.gz PackageFileSize: 440.5 KiB