Package: countsimQC Version: 1.22.0 Command: rm -rf countsimQC.buildbin-libdir && mkdir countsimQC.buildbin-libdir && E:\biocbuild\bbs-3.19-bioc\R\bin\R.exe CMD INSTALL --build --library=countsimQC.buildbin-libdir countsimQC_1.22.0.tar.gz StartedAt: 2024-10-17 07:36:08 -0400 (Thu, 17 Oct 2024) EndedAt: 2024-10-17 07:36:46 -0400 (Thu, 17 Oct 2024) EllapsedTime: 38.1 seconds RetCode: 0 Status: OK PackageFile: countsimQC_1.22.0.zip PackageFileSize: 496.3 KiB