Package: countsimQC Version: 1.22.0 Command: F:\biocbuild\bbs-3.19-bioc\R\bin\R.exe CMD check --no-multiarch --install=check:countsimQC.install-out.txt --library=F:\biocbuild\bbs-3.19-bioc\R\library --no-vignettes --timings countsimQC_1.22.0.tar.gz StartedAt: 2024-06-27 00:29:04 -0400 (Thu, 27 Jun 2024) EndedAt: 2024-06-27 00:37:25 -0400 (Thu, 27 Jun 2024) EllapsedTime: 500.2 seconds RetCode: 0 Status: OK CheckDir: countsimQC.Rcheck Warnings: 0