Package: countsimQC Version: 1.22.0 Command: chmod a+r countsimQC -R && F:\biocbuild\bbs-3.19-bioc\R\bin\R.exe CMD build --keep-empty-dirs --no-resave-data countsimQC StartedAt: 2024-06-26 18:02:24 -0400 (Wed, 26 Jun 2024) EndedAt: 2024-06-26 18:04:27 -0400 (Wed, 26 Jun 2024) EllapsedTime: 122.9 seconds RetCode: 0 Status: OK PackageFile: countsimQC_1.22.0.tar.gz PackageFileSize: 440.5 KiB