Package: countsimQC Version: 1.22.0 Command: rm -rf countsimQC.buildbin-libdir && mkdir countsimQC.buildbin-libdir && F:\biocbuild\bbs-3.19-bioc\R\bin\R.exe CMD INSTALL --build --library=countsimQC.buildbin-libdir countsimQC_1.22.0.tar.gz StartedAt: 2024-06-27 08:03:00 -0400 (Thu, 27 Jun 2024) EndedAt: 2024-06-27 08:03:40 -0400 (Thu, 27 Jun 2024) EllapsedTime: 39.8 seconds RetCode: 0 Status: OK PackageFile: countsimQC_1.22.0.zip PackageFileSize: 496.2 KiB