Package: countsimQC Version: 1.22.0 Command: /home/biocbuild/bbs-3.19-bioc/R/bin/R CMD build --keep-empty-dirs --no-resave-data countsimQC StartedAt: 2024-10-16 17:58:33 -0400 (Wed, 16 Oct 2024) EndedAt: 2024-10-16 18:00:14 -0400 (Wed, 16 Oct 2024) EllapsedTime: 101.2 seconds RetCode: 0 Status: OK PackageFile: countsimQC_1.22.0.tar.gz PackageFileSize: 440.5 KiB