Package: countsimQC Version: 1.22.0 Command: /Library/Frameworks/R.framework/Resources/bin/R CMD check --install=check:countsimQC.install-out.txt --library=/Library/Frameworks/R.framework/Resources/library --no-vignettes --timings countsimQC_1.22.0.tar.gz StartedAt: 2024-06-09 19:38:59 -0400 (Sun, 09 Jun 2024) EndedAt: 2024-06-09 19:46:01 -0400 (Sun, 09 Jun 2024) EllapsedTime: 422.2 seconds RetCode: 0 Status: OK CheckDir: countsimQC.Rcheck Warnings: 0