Package: countsimQC Version: 1.22.0 Command: /Library/Frameworks/R.framework/Resources/bin/R CMD INSTALL countsimQC StartedAt: 2024-06-09 16:49:10 -0400 (Sun, 09 Jun 2024) EndedAt: 2024-06-09 16:49:57 -0400 (Sun, 09 Jun 2024) EllapsedTime: 47.5 seconds RetCode: 0 Status: OK