Package: countsimQC Version: 1.22.0 Command: /Library/Frameworks/R.framework/Resources/bin/R CMD build --keep-empty-dirs --no-resave-data countsimQC StartedAt: 2024-06-09 19:55:48 -0400 (Sun, 09 Jun 2024) EndedAt: 2024-06-09 19:58:00 -0400 (Sun, 09 Jun 2024) EllapsedTime: 132.0 seconds RetCode: 0 Status: OK PackageFile: countsimQC_1.22.0.tar.gz PackageFileSize: 440.4 KiB