Package: countsimQC Version: 1.22.0 Command: rm -rf countsimQC.buildbin-libdir && mkdir countsimQC.buildbin-libdir && /Users/biocbuild/BBS/utils/build-universal.sh countsimQC_1.22.0.tar.gz /Library/Frameworks/R.framework/Resources/bin/R countsimQC.buildbin-libdir StartedAt: 2024-10-18 17:57:27 -0400 (Fri, 18 Oct 2024) EndedAt: 2024-10-18 17:58:12 -0400 (Fri, 18 Oct 2024) EllapsedTime: 45.4 seconds RetCode: 0 Status: OK PackageFile: countsimQC_1.22.0.tgz PackageFileSize: 491.1 KiB