Package: cosmosR Version: 1.12.0 Command: rm -rf cosmosR.buildbin-libdir && mkdir cosmosR.buildbin-libdir && E:\biocbuild\bbs-3.19-bioc\R\bin\R.exe CMD INSTALL --build --library=cosmosR.buildbin-libdir cosmosR_1.12.0.tar.gz StartedAt: 2024-10-17 07:36:02 -0400 (Thu, 17 Oct 2024) EndedAt: 2024-10-17 07:36:20 -0400 (Thu, 17 Oct 2024) EllapsedTime: 17.9 seconds RetCode: 0 Status: OK PackageFile: cosmosR_1.12.0.zip PackageFileSize: 3.452 MiB