Package: cosmosR Version: 1.12.0 Command: F:\biocbuild\bbs-3.19-bioc\R\bin\R.exe CMD INSTALL cosmosR StartedAt: 2024-06-26 16:15:36 -0400 (Wed, 26 Jun 2024) EndedAt: 2024-06-26 16:15:56 -0400 (Wed, 26 Jun 2024) EllapsedTime: 19.4 seconds RetCode: 0 Status: OK