Package: cosmosR Version: 1.12.0 Command: F:\biocbuild\bbs-3.19-bioc\R\bin\R.exe CMD check --no-multiarch --install=check:cosmosR.install-out.txt --library=F:\biocbuild\bbs-3.19-bioc\R\library --no-vignettes --timings cosmosR_1.12.0.tar.gz StartedAt: 2024-06-27 00:28:35 -0400 (Thu, 27 Jun 2024) EndedAt: 2024-06-27 00:30:21 -0400 (Thu, 27 Jun 2024) EllapsedTime: 105.9 seconds RetCode: 0 Status: OK CheckDir: cosmosR.Rcheck Warnings: 0